BEGIN:VCALENDAR
VERSION:2.0
PRODID:icalendar-ruby
CALSCALE:GREGORIAN
BEGIN:VEVENT
DTSTAMP:20260421T082407Z
UID:event-31@washtenawrepublicans.org
DTSTART:20260317T180000
DTEND:20260317T200000
CREATED:20260121T200414
DESCRIPTION:Kick off your volunteer journey with our first training session
 : Social Media Mastery! Learn how to harness the power of Facebook\, Insta
 gram\, and X to educate your community\, spark meaningful conversations\, 
 and dramatically expand the reach of our key issues and campaigns in Washt
 enaw County.
LAST-MODIFIED:20260217T134846
LOCATION:Washtenaw County GOP HQ (south conference room)\, 3025 Boardwalk D
 rive\nAnn Arbor\, 48108
SUMMARY:Social Media Mastery
URL;VALUE=URI:https://washtenawrepublicans.org/events/social-media-mastery
END:VEVENT
END:VCALENDAR
