BEGIN:VCALENDAR
VERSION:2.0
PRODID:icalendar-ruby
CALSCALE:GREGORIAN
BEGIN:VEVENT
DTSTAMP:20260425T164347Z
UID:event-58@washtenawrepublicans.org
DTSTART:20260725T120000
DTEND:20260725T220000
CREATED:20260425T091356
DESCRIPTION:
LAST-MODIFIED:20260425T092312
LOCATION:Liberty Mountain\, Liberty Mountain\, Farwell\, Michigan
SUMMARY:Rock MI Red 2026
URL;VALUE=URI:https://washtenawrepublicans.org/events/rock-mi-red-2026
END:VEVENT
END:VCALENDAR
