BEGIN:VCALENDAR
VERSION:2.0
PRODID:icalendar-ruby
CALSCALE:GREGORIAN
BEGIN:VEVENT
DTSTAMP:20260422T011810Z
UID:event-46@washtenawrepublicans.org
DTSTART:20260411T100000
DTEND:20260411T160000
CREATED:20260401T125012
DESCRIPTION:Two sessions: Belleville in the AM\, York in the PM
LAST-MODIFIED:20260401T125815
LOCATION:\, 
SUMMARY:Laura Perry | Door Days #1
URL;VALUE=URI:https://washtenawrepublicans.org/events/laura-perry-door-days
 -1
END:VEVENT
END:VCALENDAR
