BEGIN:VCALENDAR
VERSION:2.0
PRODID:icalendar-ruby
CALSCALE:GREGORIAN
BEGIN:VEVENT
DTSTAMP:20260423T173358Z
UID:event-47@washtenawrepublicans.org
DTSTART:20260425T100000
DTEND:20260425T160000
CREATED:20260402T122049
DESCRIPTION:
LAST-MODIFIED:20260402T125717
LOCATION:Livingston County GOP Victory Center\, 7789 M-36\, Suite B\nWhitmo
 re Lake\, MI 48189
SUMMARY:Brian Ignatowski | Door Days #1
URL;VALUE=URI:https://washtenawrepublicans.org/events/ignatowski-door-days-
 1
END:VEVENT
END:VCALENDAR
