BEGIN:VCALENDAR
VERSION:2.0
PRODID:icalendar-ruby
CALSCALE:GREGORIAN
BEGIN:VEVENT
DTSTAMP:20260423T173558Z
UID:event-48@washtenawrepublicans.org
DTSTART:20260610T173000
DTEND:20260610T210000
CREATED:20260402T122909
DESCRIPTION:
LAST-MODIFIED:20260405T171956
LOCATION:Wilson Estate Vineyards\, 18850 Kane Road\, Stockbridge\, MI\, 492
 85
SUMMARY:Brian Ignatowski | Wilson Estate Vineyards
URL;VALUE=URI:https://washtenawrepublicans.org/events/brian-ignatowski-wils
 on-estate-vineyards
END:VEVENT
END:VCALENDAR
